BEGIN:VCALENDAR
VERSION:2.0
PRODID:-//Rediinf - ECPv6.0.11//NONSGML v1.0//EN
CALSCALE:GREGORIAN
METHOD:PUBLISH
X-ORIGINAL-URL:https://rediinf.com
X-WR-CALDESC:Eventos para Rediinf
REFRESH-INTERVAL;VALUE=DURATION:PT1H
X-Robots-Tag:noindex
X-PUBLISHED-TTL:PT1H
BEGIN:VTIMEZONE
TZID:UTC
BEGIN:STANDARD
TZOFFSETFROM:+0000
TZOFFSETTO:+0000
TZNAME:UTC
DTSTART:20220101T000000
END:STANDARD
TZID:America/Santiago
BEGIN:STANDARD
TZOFFSETFROM:-0300
TZOFFSETTO:-0400
TZNAME:-04
DTSTART:20220403T030000
END:STANDARD
BEGIN:DAYLIGHT
TZOFFSETFROM:-0400
TZOFFSETTO:-0300
TZNAME:-03
DTSTART:20220911T040000
END:DAYLIGHT
END:VTIMEZONE
BEGIN:VEVENT
DTSTART;TZID=UTC:20221219T170000
DTEND;TZID=UTC:20221219T210000
DTSTAMP:20260422T115108
CREATED:20221106T204801Z
LAST-MODIFIED:20221106T204801Z
UID:539-1671469200-1671483600@rediinf.com
SUMMARY:Hacia la implementación de servicios a la primera infancia de calidad en América Latina y el Caribe
DESCRIPTION:Garantizar la calidad de la educación temprana es crítico para sentar las bases del aprendizaje y desarrollo de todos los niños y niñas de la región. La Agenda Regional para el Desarrollo integral de la Primera Infancia le otorga un lugar prominente al objetivo de lograr la calidad de la educación temprana. El segundo acuerdo de dicha Agenda llama a todos los países a “fortalecer la gestión para una atención integral de calidad\, pertinente y oportuna\, dirigida a la primera infancia en los entornos donde transcurre su vida” e identifica la necesidad de establecer “sistemas de aseguramiento de la calidad de los servicios gubernamentales y no gubernamentales dirigidos a esta población que se fundamenten en el desarrollo integral esperado de los niños y niñas.” \nEl Foro Regional sobre Calidad en la Educación Temprana\, con participación de representantes de los ministerios y agencias responsables por la educación temprana\, expertos y representantes de organismos de sociedad civil y de cooperación\, se reunió de forma virtual entre mayo y julio de 2020 a fin de acordar estrategias comunes y recomendaciones para el logro del objetivo de calidad en la educación temprana tal como fue definido en la Agenda Regional.
URL:https://rediinf.com/event/hacia-la-implementacion-de-servicios-a-la-primera-infancia-de-calidad-en-america-latina-y-el-caribe/
LOCATION:Casino Dreams Valdivia\, Carampangue 190\, Valdivia\, Los Ríos\, Valdivia\, Chile
ATTACH;FMTTYPE=image/jpeg:https://rediinf.com/wp-content/uploads/2022/10/book-g13158bdc2_1920.jpg
ORGANIZER;CN="La%20Red%20de%20Estudios%20en%20Interdisciplinares%20de%20la%20Infancia":MAILTO:contacto@rediinf.com
END:VEVENT
BEGIN:VEVENT
DTSTART;TZID=America/Santiago:20221130T110000
DTEND;TZID=America/Santiago:20221130T130000
DTSTAMP:20260422T115108
CREATED:20221106T203911Z
LAST-MODIFIED:20221106T204003Z
UID:537-1669806000-1669813200@rediinf.com
SUMMARY:Evaluando el impacto de la pandemia en el desarrollo de los niños y niñas en América Latina y el Caribe
DESCRIPTION:El 9 de diciembre del 2020\, la Red Regional de Medición del Desarrollo Infantil (REMDI) junto al Diálogo Interamericano y la Oficina Regional de UNICEF\, convocaron un seminario virtual para presentar el informe “Midiendo el impacto de la Covid-19 en los niños y niñas menores de seis años en América Latina: Mapeo de encuestas en curso y sistematización de lecciones aprendidas” elaborado por Gabriela Guerrero (GRADE). Este informe reúne los esfuerzos realizados en los países de América Latina y el Caribe para medir los efectos de la pandemia en la primera infancia.
URL:https://rediinf.com/event/evaluando-el-impacto-de-la-pandemia-en-el-desarrollo-de-los-ninos-y-ninas-en-america-latina-y-el-caribe/
LOCATION:Universidad Catolica De Temuco\, Manuel Montt 56\, Temuco\, Araucanía\, Temuco\, Chile
ATTACH;FMTTYPE=image/jpeg:https://rediinf.com/wp-content/uploads/2022/10/latino-ge2db9f06a_1920.jpg
ORGANIZER;CN="La%20Red%20de%20Estudios%20en%20Interdisciplinares%20de%20la%20Infancia":MAILTO:contacto@rediinf.com
END:VEVENT
BEGIN:VEVENT
DTSTART;VALUE=DATE:20221115
DTEND;VALUE=DATE:20221116
DTSTAMP:20260422T115108
CREATED:20221106T203706Z
LAST-MODIFIED:20221106T203706Z
UID:535-1668470400-1668556799@rediinf.com
SUMMARY:La primera infancia y el Covid-19: Respuestas a la emergencia
DESCRIPTION:El 29 de abril\, el programa de Educación del Diálogo Interamericano\, Early Childhood Development Action Network (ECDAN) y la Oficina Regional para América Latina y el Caribe de UNICEF convocaron un seminario virtual para reflexionar sobre cómo la emergencia sanitaria ha afectado a la primera infancia y qué medidas han implementado los gobiernos para enfrentar esta cambiante situación y asegurarse de que los objetivos de desarrollo infantil continúen recibiendo apoyo. Este encuentro digital contó con la participación de Carolina Salgado\, consejera de la Presidencia para la Niñez y Adolescencia en Colombia\, Jeanet Leguas\, directora de Chile Crece Contigo y Pierina Stivan\, coordinadora del programa de acompañamiento familiar Uruguay Crece Contigo (UCC). Este seminario fue moderado por Ariel Fiszbein\, director del programa de educación en el Diálogo Interamericano\, Shekufeh Zonji\, lead técnica global de ECDAN y Monica Rubio\, asesora regional para UNICEF LACRO. El encuentro contó con la asistencia de 651 participantes
URL:https://rediinf.com/event/la-primera-infancia-y-el-covid-19-respuestas-a-la-emergencia/
LOCATION:Casino Dreams Valdivia\, Carampangue 190\, Valdivia\, Los Ríos\, Valdivia\, Chile
ATTACH;FMTTYPE=image/jpeg:https://rediinf.com/wp-content/uploads/2022/10/DSC_2064-scaled-1.jpg
ORGANIZER;CN="La%20Red%20de%20Estudios%20en%20Interdisciplinares%20de%20la%20Infancia":MAILTO:contacto@rediinf.com
END:VEVENT
END:VCALENDAR